BEGIN:VCALENDAR
CALSCALE:GREGORIAN
X-WR-TIMEZONE;VALUE=TEXT:GMT
PRODID:PEAK Corporation - piCal -
X-WR-CALNAME;VALUE=TEXT:オープンセミナー GOKEN RADIO 1「授業準備、何をどこまで?」
VERSION:2.0
METHOD:PUBLISH
BEGIN:VTIMEZONE
TZID:GMT
BEGIN:STANDARD
DTSTART:19390101T000000
TZOFFSETFROM:+0000
TZOFFSETTO:+0000
TZNAME:GMT
END:STANDARD
END:VTIMEZONE
BEGIN:VEVENT
DTSTART:20260215T070000Z
DTEND:20260215T083000Z
LOCATION:オンライン
TRANSP:OPAQUE
SEQUENCE:0
UID:pical060-797c0297986a5c35b4322fb6c00e2136
DTSTAMP:20260419T112119Z
CATEGORIES:Zoom利用
DESCRIPTION:この企画は、語研会員の研修会として会員のみを対象に、Zoom によるオンラインで実施します。GOKEN RADIO は会員限定、事前申込不要です。\n日時：2月15日（土）16:00～17:30\nテーマ：「授業準備、何をどこまで?」\nゲスト：浅野伸子（高）、石川ひろみ（中）、鈴木文也（中高大）、聞き手：矢田理世\n\n語研 研究部から、オープンセミナーのご案内です。\n第１回目は新企画、GOKEN RADIO です。\nテーマに基づいて、インタビュー形式で研究員が自由に話す、という企画です。
SUMMARY:オープンセミナー GOKEN RADIO 1「授業準備、何をどこまで?」
PRIORITY:0
CLASS:PUBLIC
END:VEVENT
END:VCALENDAR
