BEGIN:VCALENDAR
CALSCALE:GREGORIAN
X-WR-TIMEZONE;VALUE=TEXT:GMT
PRODID:PEAK Corporation - piCal -
X-WR-CALNAME;VALUE=TEXT:第5 オープンセミナー担当者打ち合わせ
VERSION:2.0
METHOD:PUBLISH
BEGIN:VTIMEZONE
TZID:GMT
BEGIN:STANDARD
DTSTART:19390101T000000
TZOFFSETFROM:+0000
TZOFFSETTO:+0000
TZNAME:GMT
END:STANDARD
END:VTIMEZONE
BEGIN:VEVENT
DTSTART:20260304T043000Z
DTEND:20260304T060000Z
LOCATION:Zoom
TRANSP:OPAQUE
SEQUENCE:0
UID:pical060-5f2170912ff13a6f42d4998555d3065b
DTSTAMP:20260301T083454Z
CATEGORIES:Zoom利用
DESCRIPTION:
SUMMARY:第5 オープンセミナー担当者打ち合わせ
PRIORITY:0
CLASS:PUBLIC
END:VEVENT
END:VCALENDAR
