BEGIN:VCALENDAR
CALSCALE:GREGORIAN
X-WR-TIMEZONE;VALUE=TEXT:GMT
PRODID:PEAK Corporation - piCal -
X-WR-CALNAME;VALUE=TEXT:第3研究グループ研究会
VERSION:2.0
METHOD:PUBLISH
BEGIN:VTIMEZONE
TZID:GMT
BEGIN:STANDARD
DTSTART:19390101T000000
TZOFFSETFROM:+0000
TZOFFSETTO:+0000
TZNAME:GMT
END:STANDARD
END:VTIMEZONE
BEGIN:VEVENT
DTSTART:20260110T083000Z
DTEND:20260110T110000Z
LOCATION:オンライン、語研研修室
TRANSP:OPAQUE
SEQUENCE:1
UID:pical060-6409771ca073ad56aa87df3adee56a0f
DTSTAMP:20251221T062230Z
CATEGORIES:Zoom利用
DESCRIPTION:2025年度19\n17:30～20:00です。\n第26グループとの「のぞき合い」です。新年会もあります。
SUMMARY:第3研究グループ研究会
PRIORITY:0
CLASS:PUBLIC
END:VEVENT
END:VCALENDAR
