BEGIN:VCALENDAR
CALSCALE:GREGORIAN
X-WR-TIMEZONE;VALUE=TEXT:GMT
PRODID:PEAK Corporation - piCal -
X-WR-CALNAME;VALUE=TEXT:第26研究グループ定例会
VERSION:2.0
METHOD:PUBLISH
BEGIN:VTIMEZONE
TZID:GMT
BEGIN:STANDARD
DTSTART:19390101T000000
TZOFFSETFROM:+0000
TZOFFSETTO:+0000
TZNAME:GMT
END:STANDARD
END:VTIMEZONE
BEGIN:VEVENT
DTSTART:20251211T093000Z
DTEND:20251211T110000Z
LOCATION:
TRANSP:OPAQUE
SEQUENCE:0
UID:pical060-dd6facfd1d8c226118ef6cb7f6c8cd26
DTSTAMP:20251206T154804Z
CATEGORIES:Zoom利用
DESCRIPTION:
SUMMARY:第26研究グループ定例会
PRIORITY:0
CLASS:PUBLIC
END:VEVENT
END:VCALENDAR
