BEGIN:VCALENDAR
CALSCALE:GREGORIAN
X-WR-TIMEZONE;VALUE=TEXT:GMT
PRODID:PEAK Corporation - piCal -
X-WR-CALNAME;VALUE=TEXT:第6グループ（パーマー）11月例会(オンライン)
VERSION:2.0
METHOD:PUBLISH
BEGIN:VTIMEZONE
TZID:GMT
BEGIN:STANDARD
DTSTART:19390101T000000
TZOFFSETFROM:+0000
TZOFFSETTO:+0000
TZNAME:GMT
END:STANDARD
END:VTIMEZONE
BEGIN:VEVENT
DTSTART:20251129T083000Z
DTEND:20251129T103000Z
LOCATION:
TRANSP:OPAQUE
SEQUENCE:0
UID:pical060-20fd437578c28ad5c6f02a178d2f408e
DTSTAMP:20251119T023157Z
CATEGORIES:
DESCRIPTION:
SUMMARY:第6グループ（パーマー）11月例会(オンライン)
PRIORITY:0
CLASS:PUBLIC
END:VEVENT
END:VCALENDAR
