BEGIN:VCALENDAR
CALSCALE:GREGORIAN
X-WR-TIMEZONE;VALUE=TEXT:GMT
PRODID:PEAK Corporation - piCal -
X-WR-CALNAME;VALUE=TEXT:第１０研究グループ定例会(ハイブリッド）
VERSION:2.0
METHOD:PUBLISH
BEGIN:VTIMEZONE
TZID:GMT
BEGIN:STANDARD
DTSTART:19390101T000000
TZOFFSETFROM:+0000
TZOFFSETTO:+0000
TZNAME:GMT
END:STANDARD
END:VTIMEZONE
BEGIN:VEVENT
DTSTART:20250906T033000Z
DTEND:20250906T070000Z
LOCATION:西日暮里研修室
TRANSP:OPAQUE
SEQUENCE:2
UID:pical060-08247902a083e157916022df3e433449
DTSTAMP:20250811T104310Z
CATEGORIES:Zoom利用
DESCRIPTION:対面＋オンライン
SUMMARY:第１０研究グループ定例会(ハイブリッド）
PRIORITY:0
CLASS:PUBLIC
END:VEVENT
END:VCALENDAR
