BEGIN:VCALENDAR
CALSCALE:GREGORIAN
X-WR-TIMEZONE;VALUE=TEXT:GMT
PRODID:PEAK Corporation - piCal -
X-WR-CALNAME;VALUE=TEXT:事務員在室
VERSION:2.0
METHOD:PUBLISH
BEGIN:VTIMEZONE
TZID:GMT
BEGIN:STANDARD
DTSTART:19390101T000000
TZOFFSETFROM:+0000
TZOFFSETTO:+0000
TZNAME:GMT
END:STANDARD
END:VTIMEZONE
BEGIN:VEVENT
DTSTART:20250921T040000Z
DTEND:20250921T120000Z
LOCATION:
TRANSP:OPAQUE
SEQUENCE:0
UID:pical060-8b8a71d0befcb83070f2b40250d8080e
DTSTAMP:20250722T075257Z
CATEGORIES:
DESCRIPTION:
SUMMARY:事務員在室
PRIORITY:0
CLASS:PUBLIC
END:VEVENT
END:VCALENDAR
