BEGIN:VCALENDAR
CALSCALE:GREGORIAN
X-WR-TIMEZONE;VALUE=TEXT:GMT
PRODID:PEAK Corporation - piCal -
X-WR-CALNAME;VALUE=TEXT:第10研究グループ　定例会
VERSION:2.0
METHOD:PUBLISH
BEGIN:VTIMEZONE
TZID:Etc/GMT-9
BEGIN:STANDARD
DTSTART:19390101T000000
TZOFFSETFROM:+0900
TZOFFSETTO:+0900
TZNAME:Etc/GMT-9
END:STANDARD
END:VTIMEZONE
BEGIN:VEVENT
DTSTART;TZID=Etc/GMT-9:20251213T163000
DTEND;TZID=Etc/GMT-9:20251213T193000
LOCATION:オンライン　
TRANSP:OPAQUE
SEQUENCE:2
UID:pical060-09e2cc2c8af8310d32f8b6325e4bf873
DTSTAMP:20250811T104915Z
CATEGORIES:Zoom利用,研究グループ
DESCRIPTION:時間表示は誤りです。正しくは12：30～15：30です。
SUMMARY:第10研究グループ　定例会
RRULE:FREQ=MONTHLY;INTERVAL=1;BYDAY=2SA;WKST=MO
PRIORITY:0
CLASS:PUBLIC
END:VEVENT
END:VCALENDAR
