BEGIN:VCALENDAR
CALSCALE:GREGORIAN
X-WR-TIMEZONE;VALUE=TEXT:GMT
PRODID:PEAK Corporation - piCal -
X-WR-CALNAME;VALUE=TEXT:研究大会運営委員会
VERSION:2.0
METHOD:PUBLISH
BEGIN:VTIMEZONE
TZID:GMT
BEGIN:STANDARD
DTSTART:19390101T000000
TZOFFSETFROM:+0000
TZOFFSETTO:+0000
TZNAME:GMT
END:STANDARD
END:VTIMEZONE
BEGIN:VEVENT
DTSTART:20250531T080000Z
DTEND:20250531T100000Z
LOCATION:オンライン
TRANSP:OPAQUE
SEQUENCE:0
UID:pical060-a8108aa73007c0c643abf2f7d09f6372
DTSTAMP:20250519T160952Z
CATEGORIES:Zoom利用
DESCRIPTION:
SUMMARY:研究大会運営委員会
PRIORITY:0
CLASS:PUBLIC
END:VEVENT
END:VCALENDAR
