BEGIN:VCALENDAR
CALSCALE:GREGORIAN
X-WR-TIMEZONE;VALUE=TEXT:GMT
PRODID:PEAK Corporation - piCal -
X-WR-CALNAME;VALUE=TEXT:第6グループ5月例会（オンライン）
VERSION:2.0
METHOD:PUBLISH
BEGIN:VTIMEZONE
TZID:GMT
BEGIN:STANDARD
DTSTART:19390101T000000
TZOFFSETFROM:+0000
TZOFFSETTO:+0000
TZNAME:GMT
END:STANDARD
END:VTIMEZONE
BEGIN:VEVENT
DTSTART:20250531T120000Z
DTEND:20250531T133000Z
LOCATION:
TRANSP:OPAQUE
SEQUENCE:0
UID:pical060-ad688ec5eb679aa297ab6976d0bab69d
DTSTAMP:20250426T184803Z
CATEGORIES:
DESCRIPTION:
SUMMARY:第6グループ5月例会（オンライン）
PRIORITY:0
CLASS:PUBLIC
END:VEVENT
END:VCALENDAR
