BEGIN:VCALENDAR
CALSCALE:GREGORIAN
X-WR-TIMEZONE;VALUE=TEXT:GMT
PRODID:PEAK Corporation - piCal -
X-WR-CALNAME;VALUE=TEXT:第１回評議員会
VERSION:2.0
METHOD:PUBLISH
BEGIN:VTIMEZONE
TZID:GMT
BEGIN:STANDARD
DTSTART:19390101T000000
TZOFFSETFROM:+0000
TZOFFSETTO:+0000
TZNAME:GMT
END:STANDARD
END:VTIMEZONE
BEGIN:VEVENT
DTSTART:20240630T093000Z
DTEND:20240630T110000Z
LOCATION:Zoom
TRANSP:OPAQUE
SEQUENCE:1
UID:pical060-b5491ca0b68d2595a63861f5e91d27f4
DTSTAMP:20240522T062411Z
CATEGORIES:Zoom利用,その他
DESCRIPTION:
SUMMARY:第１回評議員会
PRIORITY:0
CLASS:PUBLIC
END:VEVENT
END:VCALENDAR
