BEGIN:VCALENDAR
CALSCALE:GREGORIAN
X-WR-TIMEZONE;VALUE=TEXT:GMT
PRODID:PEAK Corporation - piCal -
X-WR-CALNAME;VALUE=TEXT:2023年度研究大会
VERSION:2.0
METHOD:PUBLISH
BEGIN:VTIMEZONE
TZID:GMT
BEGIN:STANDARD
DTSTART:19390101T000000
TZOFFSETFROM:+0000
TZOFFSETTO:+0000
TZNAME:GMT
END:STANDARD
END:VTIMEZONE
BEGIN:VEVENT
DTSTART;VALUE=DATE:20231119
DTEND;VALUE=DATE:20231120
LOCATION:Zoom
TRANSP:OPAQUE
SEQUENCE:0
UID:pical060-87811f2e02f9ec240397157c8114372a
DTSTAMP:20230914T162014Z
CATEGORIES:Zoom利用,イベント,その他
DESCRIPTION:
SUMMARY:2023年度研究大会
PRIORITY:0
CLASS:PUBLIC
END:VEVENT
END:VCALENDAR
