BEGIN:VCALENDAR
CALSCALE:GREGORIAN
X-WR-TIMEZONE;VALUE=TEXT:GMT
PRODID:PEAK Corporation - piCal -
X-WR-CALNAME;VALUE=TEXT:臨時理事会
VERSION:2.0
METHOD:PUBLISH
BEGIN:VTIMEZONE
TZID:GMT
BEGIN:STANDARD
DTSTART:19390101T000000
TZOFFSETFROM:+0000
TZOFFSETTO:+0000
TZNAME:GMT
END:STANDARD
END:VTIMEZONE
BEGIN:VEVENT
DTSTART:20230731T150000Z
DTEND:20230731T160000Z
LOCATION:Zoom
TRANSP:OPAQUE
SEQUENCE:0
UID:pical060-a02a0b26e995263ab98d696e513adecf
DTSTAMP:20230725T090616Z
CATEGORIES:Zoom利用,その他
DESCRIPTION:
SUMMARY:臨時理事会
PRIORITY:0
CLASS:PUBLIC
END:VEVENT
END:VCALENDAR
