BEGIN:VCALENDAR
CALSCALE:GREGORIAN
X-WR-TIMEZONE;VALUE=TEXT:GMT
PRODID:PEAK Corporation - piCal -
X-WR-CALNAME;VALUE=TEXT:20:00百周年記念誌準備委員会第６回
VERSION:2.0
METHOD:PUBLISH
BEGIN:VTIMEZONE
TZID:GMT
BEGIN:STANDARD
DTSTART:19390101T000000
TZOFFSETFROM:+0000
TZOFFSETTO:+0000
TZNAME:GMT
END:STANDARD
END:VTIMEZONE
BEGIN:VEVENT
DTSTART:20230227T170000Z
DTEND:20230227T190000Z
LOCATION:Zoom 20:00～　
TRANSP:OPAQUE
SEQUENCE:0
UID:pical060-2347017776b16e1e3fb9da185547955f
DTSTAMP:20230222T144414Z
CATEGORIES:Zoom利用
DESCRIPTION:20:00百周年記念誌準備委員会第６回　Zoom会議
SUMMARY:20:00百周年記念誌準備委員会第６回
PRIORITY:0
CLASS:PUBLIC
END:VEVENT
END:VCALENDAR
