BEGIN:VCALENDAR
CALSCALE:GREGORIAN
X-WR-TIMEZONE;VALUE=TEXT:GMT
PRODID:PEAK Corporation - piCal -
X-WR-CALNAME;VALUE=TEXT:第３研究グループ
VERSION:2.0
METHOD:PUBLISH
BEGIN:VTIMEZONE
TZID:GMT
BEGIN:STANDARD
DTSTART:19390101T000000
TZOFFSETFROM:+0000
TZOFFSETTO:+0000
TZNAME:GMT
END:STANDARD
END:VTIMEZONE
BEGIN:VEVENT
DTSTART:20230218T143000Z
DTEND:20230218T170000Z
LOCATION:オンライン
TRANSP:OPAQUE
SEQUENCE:0
UID:pical060-c682b2a8b4d8ee6e672bf9b10177c4fc
DTSTAMP:20230204T172601Z
CATEGORIES:Zoom利用
DESCRIPTION:
SUMMARY:第３研究グループ
PRIORITY:0
CLASS:PUBLIC
END:VEVENT
END:VCALENDAR
