BEGIN:VCALENDAR
CALSCALE:GREGORIAN
X-WR-TIMEZONE;VALUE=TEXT:GMT
PRODID:PEAK Corporation - piCal -
X-WR-CALNAME;VALUE=TEXT:20：00～百周年記念誌準備委員会第4回会合
VERSION:2.0
METHOD:PUBLISH
BEGIN:VTIMEZONE
TZID:GMT
BEGIN:STANDARD
DTSTART:19390101T000000
TZOFFSETFROM:+0000
TZOFFSETTO:+0000
TZNAME:GMT
END:STANDARD
END:VTIMEZONE
BEGIN:VEVENT
DTSTART:20230110T170000Z
DTEND:20230110T190000Z
LOCATION:オンライン（Zoom）
TRANSP:OPAQUE
SEQUENCE:0
UID:pical060-17e1c8b8cb3e7e7a098bad5eafaecc4b
DTSTAMP:20221231T054317Z
CATEGORIES:Zoom利用
DESCRIPTION:百周年記念誌準備委員会第4回会合　Zoomにて
SUMMARY:20：00～百周年記念誌準備委員会第4回会合
PRIORITY:0
CLASS:PUBLIC
END:VEVENT
END:VCALENDAR
