BEGIN:VCALENDAR
CALSCALE:GREGORIAN
X-WR-TIMEZONE;VALUE=TEXT:GMT
PRODID:PEAK Corporation - piCal -
X-WR-CALNAME;VALUE=TEXT:オープンセミナー
VERSION:2.0
METHOD:PUBLISH
BEGIN:VTIMEZONE
TZID:GMT
BEGIN:STANDARD
DTSTART:19390101T000000
TZOFFSETFROM:+0000
TZOFFSETTO:+0000
TZNAME:GMT
END:STANDARD
END:VTIMEZONE
BEGIN:VEVENT
DTSTART:20230115T090000Z
DTEND:20230115T130000Z
LOCATION:オンライン
TRANSP:OPAQUE
SEQUENCE:0
UID:pical060-343944442969299e7e12fd2a39cd4dab
DTSTAMP:20220804T100752Z
CATEGORIES:Zoom利用
DESCRIPTION:
SUMMARY:オープンセミナー
PRIORITY:0
CLASS:PUBLIC
END:VEVENT
END:VCALENDAR
