BEGIN:VCALENDAR
CALSCALE:GREGORIAN
X-WR-TIMEZONE;VALUE=TEXT:GMT
PRODID:PEAK Corporation - piCal -
X-WR-CALNAME;VALUE=TEXT:事務員在室
VERSION:2.0
METHOD:PUBLISH
BEGIN:VTIMEZONE
TZID:GMT
BEGIN:STANDARD
DTSTART:19390101T000000
TZOFFSETFROM:+0000
TZOFFSETTO:+0000
TZNAME:GMT
END:STANDARD
END:VTIMEZONE
BEGIN:VEVENT
DTSTART:20211202T060000Z
DTEND:20211202T140000Z
LOCATION:
TRANSP:OPAQUE
SEQUENCE:0
UID:pical060-680b26b9efd8a9f287c7afc7b4ac456f
DTSTAMP:20211126T084115Z
CATEGORIES:
DESCRIPTION:
SUMMARY:事務員在室
PRIORITY:0
CLASS:PUBLIC
END:VEVENT
END:VCALENDAR
