BEGIN:VCALENDAR
CALSCALE:GREGORIAN
X-WR-TIMEZONE;VALUE=TEXT:GMT
PRODID:PEAK Corporation - piCal -
X-WR-CALNAME;VALUE=TEXT:17:30第６（パーマー）グループ例会(オンライン)
VERSION:2.0
METHOD:PUBLISH
BEGIN:VTIMEZONE
TZID:GMT
BEGIN:STANDARD
DTSTART:19390101T000000
TZOFFSETFROM:+0000
TZOFFSETTO:+0000
TZNAME:GMT
END:STANDARD
END:VTIMEZONE
BEGIN:VEVENT
DTSTART:20211030T133000Z
DTEND:20211030T153000Z
LOCATION:
TRANSP:OPAQUE
SEQUENCE:1
UID:pical060-c1b7822152610ba2ef8075038b1227a0
DTSTAMP:20210926T082348Z
CATEGORIES:
DESCRIPTION:
SUMMARY:17:30第６（パーマー）グループ例会(オンライン)
PRIORITY:0
CLASS:PUBLIC
END:VEVENT
END:VCALENDAR
