BEGIN:VCALENDAR
CALSCALE:GREGORIAN
X-WR-TIMEZONE;VALUE=TEXT:GMT
PRODID:PEAK Corporation - piCal -
X-WR-CALNAME;VALUE=TEXT:第6研究グループ(zoom)
VERSION:2.0
METHOD:PUBLISH
BEGIN:VTIMEZONE
TZID:GMT
BEGIN:STANDARD
DTSTART:19390101T000000
TZOFFSETFROM:+0000
TZOFFSETTO:+0000
TZNAME:GMT
END:STANDARD
END:VTIMEZONE
BEGIN:VEVENT
DTSTART:20210925T133000Z
DTEND:20210925T153000Z
LOCATION:
TRANSP:OPAQUE
SEQUENCE:0
UID:pical060-8e3a63948c067a519233514f08a1f12a
DTSTAMP:20210831T175419Z
CATEGORIES:Zoom利用
DESCRIPTION:
SUMMARY:第6研究グループ(zoom)
PRIORITY:0
CLASS:PUBLIC
END:VEVENT
END:VCALENDAR
