BEGIN:VCALENDAR
CALSCALE:GREGORIAN
X-WR-TIMEZONE;VALUE=TEXT:GMT
PRODID:PEAK Corporation - piCal -
X-WR-CALNAME;VALUE=TEXT:事務員在室
VERSION:2.0
METHOD:PUBLISH
BEGIN:VTIMEZONE
TZID:GMT
BEGIN:STANDARD
DTSTART:19390101T000000
TZOFFSETFROM:+0000
TZOFFSETTO:+0000
TZNAME:GMT
END:STANDARD
END:VTIMEZONE
BEGIN:VEVENT
DTSTART:20210813T050000Z
DTEND:20210813T130000Z
LOCATION:
TRANSP:OPAQUE
SEQUENCE:0
UID:pical060-5c3a7583eec2b9bcab8d88066ff4cc9c
DTSTAMP:20210729T180848Z
CATEGORIES:
DESCRIPTION:
SUMMARY:事務員在室
PRIORITY:0
CLASS:PUBLIC
END:VEVENT
END:VCALENDAR
