BEGIN:VCALENDAR
CALSCALE:GREGORIAN
X-WR-TIMEZONE;VALUE=TEXT:GMT
PRODID:PEAK Corporation - piCal -
X-WR-CALNAME;VALUE=TEXT:事務員在室日
VERSION:2.0
METHOD:PUBLISH
BEGIN:VTIMEZONE
TZID:GMT
BEGIN:STANDARD
DTSTART:19390101T000000
TZOFFSETFROM:+0000
TZOFFSETTO:+0000
TZNAME:GMT
END:STANDARD
END:VTIMEZONE
BEGIN:VEVENT
DTSTART:20210402T060000Z
DTEND:20210402T140000Z
LOCATION:
TRANSP:OPAQUE
SEQUENCE:0
UID:pical060-9ab49dea5f70d8b50e4506008b50c3e8
DTSTAMP:20210309T062320Z
CATEGORIES:
DESCRIPTION:
SUMMARY:事務員在室日
PRIORITY:0
CLASS:PUBLIC
END:VEVENT
END:VCALENDAR
