BEGIN:VCALENDAR
CALSCALE:GREGORIAN
X-WR-TIMEZONE;VALUE=TEXT:GMT
PRODID:PEAK Corporation - piCal -
X-WR-CALNAME;VALUE=TEXT:第３回炉端トーク
VERSION:2.0
METHOD:PUBLISH
BEGIN:VTIMEZONE
TZID:GMT
BEGIN:STANDARD
DTSTART:19390101T000000
TZOFFSETFROM:+0000
TZOFFSETTO:+0000
TZNAME:GMT
END:STANDARD
END:VTIMEZONE
BEGIN:VEVENT
DTSTART:20201024T110000Z
DTEND:20201024T120000Z
LOCATION:
TRANSP:OPAQUE
SEQUENCE:0
UID:pical060-7ffbf83276048dc04bccb7617cbca1f6
DTSTAMP:20201024T134347Z
CATEGORIES:Zoom利用,イベント
DESCRIPTION:
SUMMARY:第３回炉端トーク
PRIORITY:0
CLASS:PUBLIC
END:VEVENT
END:VCALENDAR
