BEGIN:VCALENDAR
CALSCALE:GREGORIAN
X-WR-TIMEZONE;VALUE=TEXT:GMT
PRODID:PEAK Corporation - piCal -
X-WR-CALNAME;VALUE=TEXT:第７回理事会
VERSION:2.0
METHOD:PUBLISH
BEGIN:VTIMEZONE
TZID:GMT
BEGIN:STANDARD
DTSTART:19390101T000000
TZOFFSETFROM:+0000
TZOFFSETTO:+0000
TZNAME:GMT
END:STANDARD
END:VTIMEZONE
BEGIN:VEVENT
DTSTART:20201029T140000Z
DTEND:20201029T153000Z
LOCATION:Zoom
TRANSP:OPAQUE
SEQUENCE:0
UID:pical060-0dd52ca42be044549a2dc2110ef930d8
DTSTAMP:20201024T134253Z
CATEGORIES:Zoom利用,その他
DESCRIPTION:
SUMMARY:第７回理事会
PRIORITY:0
CLASS:PUBLIC
END:VEVENT
END:VCALENDAR
