BEGIN:VCALENDAR
CALSCALE:GREGORIAN
X-WR-TIMEZONE;VALUE=TEXT:GMT
PRODID:PEAK Corporation - piCal -
X-WR-CALNAME;VALUE=TEXT:事務室臨時休業
VERSION:2.0
METHOD:PUBLISH
BEGIN:VTIMEZONE
TZID:GMT
BEGIN:STANDARD
DTSTART:19390101T000000
TZOFFSETFROM:+0000
TZOFFSETTO:+0000
TZNAME:GMT
END:STANDARD
END:VTIMEZONE
BEGIN:VEVENT
DTSTART:20201029T040000Z
DTEND:20201029T120000Z
LOCATION:
TRANSP:OPAQUE
SEQUENCE:0
UID:pical060-d807ffeb47f90766fbfea7135adf660d
DTSTAMP:20201005T100616Z
CATEGORIES:
DESCRIPTION:
SUMMARY:事務室臨時休業
PRIORITY:0
CLASS:PUBLIC
END:VEVENT
END:VCALENDAR
