BEGIN:VCALENDAR
CALSCALE:GREGORIAN
X-WR-TIMEZONE;VALUE=TEXT:GMT
PRODID:PEAK Corporation - piCal -
X-WR-CALNAME;VALUE=TEXT:ア・ラ・カルト講座（９）
VERSION:2.0
METHOD:PUBLISH
BEGIN:VTIMEZONE
TZID:GMT
BEGIN:STANDARD
DTSTART:19390101T000000
TZOFFSETFROM:+0000
TZOFFSETTO:+0000
TZNAME:GMT
END:STANDARD
END:VTIMEZONE
BEGIN:VEVENT
DTSTART:20201025T080000Z
DTEND:20201025T093000Z
LOCATION:Zoom
TRANSP:OPAQUE
SEQUENCE:0
UID:pical060-1b1e6db82a75932a4a59126b7b8cd052
DTSTAMP:20200717T090004Z
CATEGORIES:Zoom利用,イベント
DESCRIPTION:
SUMMARY:ア・ラ・カルト講座（９）
PRIORITY:0
CLASS:PUBLIC
END:VEVENT
END:VCALENDAR
