BEGIN:VCALENDAR
CALSCALE:GREGORIAN
X-WR-TIMEZONE;VALUE=TEXT:GMT
PRODID:PEAK Corporation - piCal -
X-WR-CALNAME;VALUE=TEXT:ア・ラ・カルト講座（８）
VERSION:2.0
METHOD:PUBLISH
BEGIN:VTIMEZONE
TZID:GMT
BEGIN:STANDARD
DTSTART:19390101T000000
TZOFFSETFROM:+0000
TZOFFSETTO:+0000
TZNAME:GMT
END:STANDARD
END:VTIMEZONE
BEGIN:VEVENT
DTSTART:20201011T090000Z
DTEND:20201011T103000Z
LOCATION:Zoom
TRANSP:OPAQUE
SEQUENCE:0
UID:pical060-c90da558fa465c6a04d1a3f9cf71d6ac
DTSTAMP:20200717T085940Z
CATEGORIES:Zoom利用,イベント
DESCRIPTION:
SUMMARY:ア・ラ・カルト講座（８）
PRIORITY:0
CLASS:PUBLIC
END:VEVENT
END:VCALENDAR
