BEGIN:VCALENDAR
CALSCALE:GREGORIAN
X-WR-TIMEZONE;VALUE=TEXT:GMT
PRODID:PEAK Corporation - piCal -
X-WR-CALNAME;VALUE=TEXT:第10G定例会
VERSION:2.0
METHOD:PUBLISH
BEGIN:VTIMEZONE
TZID:GMT
BEGIN:STANDARD
DTSTART:19390101T000000
TZOFFSETFROM:+0000
TZOFFSETTO:+0000
TZNAME:GMT
END:STANDARD
END:VTIMEZONE
BEGIN:VEVENT
DTSTART:20210313T073000Z
DTEND:20210313T120000Z
LOCATION:語研研修室
TRANSP:OPAQUE
SEQUENCE:0
UID:pical060-aa675d72dc0f61b138b18cf98c5cb36d
DTSTAMP:20200320T173343Z
CATEGORIES:
DESCRIPTION:
SUMMARY:第10G定例会
PRIORITY:0
CLASS:PUBLIC
END:VEVENT
END:VCALENDAR
