BEGIN:VCALENDAR
CALSCALE:GREGORIAN
X-WR-TIMEZONE;VALUE=TEXT:GMT
PRODID:PEAK Corporation - piCal -
X-WR-CALNAME;VALUE=TEXT:オープンセミナー
VERSION:2.0
METHOD:PUBLISH
BEGIN:VTIMEZONE
TZID:GMT
BEGIN:STANDARD
DTSTART:19390101T000000
TZOFFSETFROM:+0000
TZOFFSETTO:+0000
TZNAME:GMT
END:STANDARD
END:VTIMEZONE
BEGIN:VEVENT
DTSTART:20200613T130000Z
DTEND:20200613T150000Z
LOCATION:
TRANSP:OPAQUE
SEQUENCE:0
UID:pical060-baa216f2173f747e6d4519f71a8a6920
DTSTAMP:20200216T121835Z
CATEGORIES:
DESCRIPTION:
SUMMARY:オープンセミナー
PRIORITY:0
CLASS:PUBLIC
END:VEVENT
END:VCALENDAR
