BEGIN:VCALENDAR
CALSCALE:GREGORIAN
X-WR-TIMEZONE;VALUE=TEXT:GMT
PRODID:PEAK Corporation - piCal -
X-WR-CALNAME;VALUE=TEXT:第１０グループ定例会
VERSION:2.0
METHOD:PUBLISH
BEGIN:VTIMEZONE
TZID:GMT
BEGIN:STANDARD
DTSTART:19390101T000000
TZOFFSETFROM:+0000
TZOFFSETTO:+0000
TZNAME:GMT
END:STANDARD
END:VTIMEZONE
BEGIN:VEVENT
DTSTART:20181222T090000Z
DTEND:20181222T130000Z
LOCATION:語研研修室
TRANSP:OPAQUE
SEQUENCE:1
UID:pical060-83eadc0916b0b4a9316a6ab18aa26dff
DTSTAMP:20181210T131357Z
CATEGORIES:
DESCRIPTION:
SUMMARY:第１０グループ定例会
PRIORITY:0
CLASS:PUBLIC
END:VEVENT
END:VCALENDAR
