BEGIN:VCALENDAR
CALSCALE:GREGORIAN
X-WR-TIMEZONE;VALUE=TEXT:GMT
PRODID:PEAK Corporation - piCal -
X-WR-CALNAME;VALUE=TEXT:事務員在室
VERSION:2.0
METHOD:PUBLISH
BEGIN:VTIMEZONE
TZID:Etc/GMT-9
BEGIN:STANDARD
DTSTART:19390101T000000
TZOFFSETFROM:+0900
TZOFFSETTO:+0900
TZNAME:Etc/GMT-9
END:STANDARD
END:VTIMEZONE
BEGIN:VEVENT
DTSTART;TZID=Etc/GMT-9:20220908T140000
DTEND;TZID=Etc/GMT-9:20220908T220000
LOCATION:
TRANSP:OPAQUE
SEQUENCE:1
UID:pical060-b9226ace04f27d52d9444c87b84d548b
DTSTAMP:20220804T090448Z
CATEGORIES:
DESCRIPTION:
SUMMARY:事務員在室
RRULE:FREQ=WEEKLY;INTERVAL=1;BYDAY=TH;UNTIL=20220929T145959Z;WKST=MO
PRIORITY:0
CLASS:PUBLIC
END:VEVENT
END:VCALENDAR
